BEGIN:VCALENDAR
VERSION:2.0
PRODID:Events Booking
BEGIN:VEVENT
UID:69eb6139d6728
SUMMARY:October 2024 Monthly Meeting
DESCRIPTION:PCC Events provide a valuable opportunity for business mailers 
 to gain a better understanding of Postal Service policies\, programs\, and
  procedures that have been specifically designed to improve their mailing 
 and shipping needs.
 During this GPPCC October 2024 Monthly Forum\, the e
 nrichment topics featured are:
 Postal Enrichment:&nbsp\;Mitch Mullhollan
 d\, BME Manager - \"Business Customer Gateway\"
 Industry Enrichment: Wes
  Friesen - \"Mistakes Can Be Our Friends!\"
 Location:
 Portland Process
 ing &amp\; Distribution Center7007 Cornfoot RdPortland\, OR 97218
 The Gr
 eater Portland PCC meets on the second Thursday of every month from 9:00 a
 .m. to 10:00 a.m.
 Registration is not necessary.
 Join us for an hour o
 f education\, engagement\, and networking. Feel free to come with just you
 rself (or bring a partner!) - hot coffee and other refreshments on us. See
  you there!
LOCATION:7007 NE Cornfoot Rd\, Portland\, OR 97218\, USA
DTSTART:20241010T160000Z
DTEND:20241010T170000Z
DTSTAMP:20230811T021528Z
ORGANIZER;CN=Greater Portland Postal Customer Council:MAILTO:teamusps@gppcc
 .com
GEO:45.573387;-122.583986
X-APPLE-STRUCTURED-LOCATION;VALUE=URI;X-ADDRESS=7007 NE Cornfoot Rd\, Portl
 and\, OR 97218\, USA;X-APPLE-RADIUS=72;X-TITLE=Portland Processing & Distr
 ibution Center:45.573387;-122.583986
END:VEVENT
END:VCALENDAR