BEGIN:VCALENDAR
VERSION:2.0
PRODID:Events Booking
BEGIN:VEVENT
UID:69e5d78ed0443
SUMMARY:August 2024 Monthly Meeting
DESCRIPTION:PCC Events provide a valuable opportunity for business mailers 
 to gain a better understanding of Postal Service policies\, programs\, and
  procedures that have been specifically designed to improve their mailing 
 and shipping needs.
 During this GPPCC August 2024 Monthly Forum\, the en
 richment topics featured are:
 Industry Enrichment:&nbsp\;Deborah Brewste
 r\, Cenveo - \"2025 USPS Promotions and How Cenveo Can Support\"
 Industr
 y Enrichment:&nbsp\;Toni McQuilken\, Senior Editor\, Printing United Allia
 nce - \"Print Industry: How changing\, and primer on different types of pr
 int\"
 Location:
 Portland Processing &amp\; Distribution Center7007 Cor
 nfoot RdPortland\, OR 97218
 The Greater Portland PCC meets on the second
  Thursday of every month from 9:00 a.m. to 10:00 a.m.
 Registration is no
 t necessary.
 Join us for an hour of education\, engagement\, and network
 ing. Feel free to come with just yourself (or bring a partner!) - hot coff
 ee and other refreshments on us. See you there!
LOCATION:7007 NE Cornfoot Rd\, Portland\, OR 97218\, USA
DTSTART:20240808T160000Z
DTEND:20240808T170000Z
DTSTAMP:20230811T021528Z
ORGANIZER;CN=Greater Portland Postal Customer Council:MAILTO:teamusps@gppcc
 .com
GEO:45.573387;-122.583986
X-APPLE-STRUCTURED-LOCATION;VALUE=URI;X-ADDRESS=7007 NE Cornfoot Rd\, Portl
 and\, OR 97218\, USA;X-APPLE-RADIUS=72;X-TITLE=Portland Processing & Distr
 ibution Center:45.573387;-122.583986
END:VEVENT
END:VCALENDAR